BEGIN:VCALENDAR
VERSION:2.0
PRODID:-//ButjenterSpeelwark e.V. - ECPv6.3.7//NONSGML v1.0//EN
CALSCALE:GREGORIAN
METHOD:PUBLISH
X-ORIGINAL-URL:https://butjenter-speelwark.eu
X-WR-CALDESC:Veranstaltungen für ButjenterSpeelwark e.V.
REFRESH-INTERVAL;VALUE=DURATION:PT1H
X-Robots-Tag:noindex
X-PUBLISHED-TTL:PT1H
BEGIN:VTIMEZONE
TZID:UTC
BEGIN:STANDARD
TZOFFSETFROM:+0000
TZOFFSETTO:+0000
TZNAME:UTC
DTSTART:20230101T000000
END:STANDARD
TZID:Europe/Berlin
BEGIN:DAYLIGHT
TZOFFSETFROM:+0100
TZOFFSETTO:+0200
TZNAME:CEST
DTSTART:20230326T010000
END:DAYLIGHT
BEGIN:STANDARD
TZOFFSETFROM:+0200
TZOFFSETTO:+0100
TZNAME:CET
DTSTART:20231029T010000
END:STANDARD
END:VTIMEZONE
BEGIN:VEVENT
DTSTART;TZID=UTC:20230903T140000
DTEND;TZID=UTC:20230903T160000
DTSTAMP:20260422T093401
CREATED:20230416T100746Z
LAST-MODIFIED:20230827T100455Z
UID:123-1693749600-1693756800@butjenter-speelwark.eu
SUMMARY:ABGESAGT  - Open Stage Konzert an der Braker Kaje
DESCRIPTION:die Veranstaltung wurde vom Veranstalter leider abgesagt! \nLos geht`s an der Braker Kaje mit dem Butjenter Speelwark ab 14:00 Uhr. Der Eintritt ist wie immer frei und für das leibliche Wohl ist natürlich gesorgt! Am Ende des Konzerts wird wieder der Hut für die Künstler*Innen kreisen.
URL:https://butjenter-speelwark.eu/event/open-stage-konzert-an-der-braker-kaje/
LOCATION:Kaje in Brake\, Kaje\, Brake\, 26919
ATTACH;FMTTYPE=image/png:https://butjenter-speelwark.eu/wp-content/uploads/2023/04/IMG_3558.png
END:VEVENT
BEGIN:VEVENT
DTSTART;TZID=Europe/Berlin:20230928T190000
DTEND;TZID=Europe/Berlin:20230928T210000
DTSTAMP:20260422T093401
CREATED:20230814T100921Z
LAST-MODIFIED:20230814T100921Z
UID:265-1695927600-1695934800@butjenter-speelwark.eu
SUMMARY:Benefizkonzert für die Hospizhilfe
DESCRIPTION:Bei schlechtem Wetter findet die Veranstaltung im Atrium in Burharve  statt. \nWir freuen uns über Ihren Besuch. \n 
URL:https://butjenter-speelwark.eu/event/benefizkonzert-fuer-die-hospizhilfe/
LOCATION:Konzertmuschel Tossens\, Nordseeallee 33\, Butjadingen\, Niedersachsen\, 26969\, Deutschland
ATTACH;FMTTYPE=image/png:https://butjenter-speelwark.eu/wp-content/uploads/2023/04/IMG_3561.png
END:VEVENT
END:VCALENDAR