BEGIN:VCALENDAR
VERSION:2.0
PRODID:-//ButjenterSpeelwark e.V. - ECPv6.3.7//NONSGML v1.0//EN
CALSCALE:GREGORIAN
METHOD:PUBLISH
X-ORIGINAL-URL:https://butjenter-speelwark.eu
X-WR-CALDESC:Veranstaltungen für ButjenterSpeelwark e.V.
REFRESH-INTERVAL;VALUE=DURATION:PT1H
X-Robots-Tag:noindex
X-PUBLISHED-TTL:PT1H
BEGIN:VTIMEZONE
TZID:Europe/Berlin
BEGIN:DAYLIGHT
TZOFFSETFROM:+0100
TZOFFSETTO:+0200
TZNAME:CEST
DTSTART:20230326T010000
END:DAYLIGHT
BEGIN:STANDARD
TZOFFSETFROM:+0200
TZOFFSETTO:+0100
TZNAME:CET
DTSTART:20231029T010000
END:STANDARD
END:VTIMEZONE
BEGIN:VEVENT
DTSTART;VALUE=DATE:20230708
DTEND;VALUE=DATE:20230709
DTSTAMP:20260422T130029
CREATED:20230625T213300Z
LAST-MODIFIED:20230626T095517Z
UID:246-1688774400-1688860799@butjenter-speelwark.eu
SUMMARY:Konzert im Knaus Campingpark Eckwarderhörne
DESCRIPTION:Für gute Stimmung sorgt am 08.07.2023 ab 15:00h die Musikgruppe Butjenter Speelwark auf dem Knaus Campingpark Eckwarderhörne. Die Veranstaltung ist öffentlich und der Eintritt ist frei. Ganztägige Besichtigungen der Mobilheime und des Campingparks sind an diesem Tag möglich.
URL:https://butjenter-speelwark.eu/event/konzert-im-kaus-camping-park-eckwarderhoerne/
LOCATION:Knaus Campingpark Eckwarderhörne\, Zum Leuchtfeuer116\, Eckwarderhörne\, 26969
ATTACH;FMTTYPE=image/png:https://butjenter-speelwark.eu/wp-content/uploads/2023/06/Eckwarderhoerne-Nordsee-knauscamp.de_.png
END:VEVENT
END:VCALENDAR