BEGIN:VCALENDAR
VERSION:2.0
PRODID:-//ButjenterSpeelwark e.V. - ECPv6.3.7//NONSGML v1.0//EN
CALSCALE:GREGORIAN
METHOD:PUBLISH
X-WR-CALNAME:ButjenterSpeelwark e.V.
X-ORIGINAL-URL:https://butjenter-speelwark.eu
X-WR-CALDESC:Veranstaltungen für ButjenterSpeelwark e.V.
REFRESH-INTERVAL;VALUE=DURATION:PT1H
X-Robots-Tag:noindex
X-PUBLISHED-TTL:PT1H
BEGIN:VTIMEZONE
TZID:UTC
BEGIN:STANDARD
TZOFFSETFROM:+0000
TZOFFSETTO:+0000
TZNAME:UTC
DTSTART:20230101T000000
END:STANDARD
END:VTIMEZONE
BEGIN:VEVENT
DTSTART;TZID=UTC:20230805T180000
DTEND;TZID=UTC:20230805T190000
DTSTAMP:20260422T125345
CREATED:20230416T095709Z
LAST-MODIFIED:20230417T121250Z
UID:115-1691258400-1691262000@butjenter-speelwark.eu
SUMMARY:Hafen Fedderwardersiel (Ines Nacht)
DESCRIPTION:
URL:https://butjenter-speelwark.eu/event/hafen-fedderwardersiel-ines-nacht/
LOCATION:Hafen Fedderwardersiel\, Fedderwardersiel 7-9\, Fedderwardersiel\, 26969
ATTACH;FMTTYPE=image/jpeg:https://butjenter-speelwark.eu/wp-content/uploads/2023/04/PHOTO-2021-06-21-22-00.jpg
END:VEVENT
END:VCALENDAR